BEGIN:VCALENDAR
VERSION:2.0
PRODID:-//Tukios.com/
BEGIN:VEVENT
UID:a453e84d-7b54-4357-ba65-e09bf754bf00@www.pjfuneralhome.com
DTSTAMP:20260424T200917Z
DTSTART:20260429T210000Z
DTEND:20260430T000000Z
SUMMARY:Visitation
DESCRIPTION:
URL:https://www.pjfuneralhome.com/obituaries/joane-rhoda
LOCATION: 187 1st St S  Foreston MN 56330
GEO:45.7329463;-93.7125835
END:VEVENT
END:VCALENDAR