BEGIN:VCALENDAR
VERSION:2.0
PRODID:-//Tukios.com/
BEGIN:VEVENT
UID:bf0adc0c-6999-437c-a03a-95e4a5cb8861@www.pjfuneralhome.com
DTSTAMP:20260424T201210Z
DTSTART:20260430T150000Z
DTEND:20260430T160000Z
SUMMARY:Visitation
DESCRIPTION:
URL:https://www.pjfuneralhome.com/obituaries/joane-rhoda
LOCATION: 187 1st St S  Foreston MN 56330
GEO:45.7329463;-93.7125835
END:VEVENT
END:VCALENDAR