BEGIN:VCALENDAR
VERSION:2.0
PRODID:-//Tukios.com/
BEGIN:VEVENT
UID:482d206b-278b-4fb3-8c6b-85a48493f51d@www.pjfuneralhome.com
DTSTAMP:20260424T200829Z
DTSTART:20260430T160000Z
DTEND:20260430T170000Z
SUMMARY:Mass
DESCRIPTION:
URL:https://www.pjfuneralhome.com/obituaries/joane-rhoda
LOCATION: 187 1st St S  Foreston MN 56330
GEO:45.7329463;-93.7125835
END:VEVENT
END:VCALENDAR